BEGIN:VCALENDAR
VERSION:2.0
PRODID:-//hacksw/handcal//NONSGML v1.0//EN
CALSCALE:GREGORIAN
BEGIN:VEVENT
UID:69e7a7c565911
DTSTART:20200707T193000Z
DTSTAMP:20260421T163725Z
DTEND:20200707T193000Z
LOCATION:Thessaloniki
DESCRIPTION:Nano Tenchnology Event
URL;VALUE=URI:https://www.nanotexnology.com/index.php/matchmaking-b2b
 b-event
SUMMARY:NANOTEXNOLOGY Matchmaking (B2B) Event
END:VEVENT
END:VCALENDAR
