BEGIN:VCALENDAR
VERSION:2.0
PRODID:-//hacksw/handcal//NONSGML v1.0//EN
CALSCALE:GREGORIAN
BEGIN:VEVENT
UID:69e6267c97689
DTSTART:20200802T193000Z
DTSTAMP:20260420T131332Z
DTEND:20200803T193000Z
LOCATION:Zurich
DESCRIPTION:Nano Tenchnology Event
URL;VALUE=URI:https://nanotechnology.conferenceseries.com/
SUMMARY:32nd International Conference and Expo on  Nanosciences and N
 Nanotechnology
END:VEVENT
END:VCALENDAR
