BEGIN:VCALENDAR
VERSION:2.0
PRODID:-//hacksw/handcal//NONSGML v1.0//EN
CALSCALE:GREGORIAN
BEGIN:VEVENT
UID:69e626bdf398b
DTSTART:20201020T203000Z
DTSTAMP:20260420T131437Z
DTEND:20201021T203000Z
LOCATION:Paris
DESCRIPTION:Nano Tenchnology Event
URL;VALUE=URI:https://nanosummit.conferenceseries.com/
SUMMARY:37th Global Summit on  Nanoscience and Technology
END:VEVENT
END:VCALENDAR
