BEGIN:VCALENDAR
VERSION:2.0
PRODID:-//hacksw/handcal//NONSGML v1.0//EN
CALSCALE:GREGORIAN
BEGIN:VEVENT
UID:69e626615b3c4
DTSTART:20201029T203000Z
DTSTAMP:20260420T131305Z
DTEND:20201030T203000Z
LOCATION:Dubai
DESCRIPTION:Nano Tenchnology Event
URL;VALUE=URI:https://nanomedicine.nanotechconferences.org/
SUMMARY:2nd International Conference on  Nanomedicine and Nanotechnol
 logy (Nanomedicine Meet 2020)
END:VEVENT
END:VCALENDAR
