BEGIN:VCALENDAR
VERSION:2.0
PRODID:-//hacksw/handcal//NONSGML v1.0//EN
CALSCALE:GREGORIAN
BEGIN:VEVENT
UID:69e626d28223c
DTSTART:20200820T193000Z
DTSTAMP:20260420T131458Z
DTEND:20200821T193000Z
LOCATION:Osaka
DESCRIPTION:Nano Tenchnology Event
URL;VALUE=URI:https://nanomedicine.healthconferences.org/
SUMMARY:17th Nanotechnology and Nanomedicine Congress
END:VEVENT
END:VCALENDAR
