BEGIN:VCALENDAR
VERSION:2.0
PRODID:-//hacksw/handcal//NONSGML v1.0//EN
CALSCALE:GREGORIAN
BEGIN:VEVENT
UID:69e63be1713dd
DTSTART:20200608T193000Z
DTSTAMP:20260420T144449Z
DTEND:20200609T193000Z
LOCATION:London
DESCRIPTION:Nano Tenchnology Event
URL;VALUE=URI:https://nanotechnologycongress.conferenceseries.com/
SUMMARY:23rd World Nanotechnology Congress
END:VEVENT
END:VCALENDAR
