BEGIN:VCALENDAR
VERSION:2.0
PRODID:-//hacksw/handcal//NONSGML v1.0//EN
CALSCALE:GREGORIAN
BEGIN:VEVENT
UID:69e63c1dbc936
DTSTART:20200608T193000Z
DTSTAMP:20260420T144549Z
DTEND:20200609T193000Z
LOCATION:Istanbul
DESCRIPTION:Nano Tenchnology Event
URL;VALUE=URI:https://nanomaterials.nanotechconferences.org/
SUMMARY:28th International Conference on  Nanomedicine and Nanomateri
 ials
END:VEVENT
END:VCALENDAR
