BEGIN:VCALENDAR
VERSION:2.0
PRODID:-//hacksw/handcal//NONSGML v1.0//EN
CALSCALE:GREGORIAN
BEGIN:VEVENT
UID:69e63c1e428da
DTSTART:20200426T193000Z
DTSTAMP:20260420T144550Z
DTEND:20200427T193000Z
LOCATION:London
DESCRIPTION:Nano Tenchnology Event
URL;VALUE=URI:https://nanotech.conferenceseries.com/
SUMMARY:33rd International Conference on  Advanced Nanoscience and Na
 anotechnology
END:VEVENT
END:VCALENDAR
