BEGIN:VCALENDAR
VERSION:2.0
PRODID:-//hacksw/handcal//NONSGML v1.0//EN
CALSCALE:GREGORIAN
BEGIN:VEVENT
UID:69e63c1d2e97d
DTSTART:20200611T193000Z
DTSTAMP:20260420T144549Z
DTEND:20200612T193000Z
LOCATION:London
DESCRIPTION:Nano Tenchnology Event
URL;VALUE=URI:https://nanocongress.nanotechconferences.org/
SUMMARY:32nd Nano Congress for Future Advancements
END:VEVENT
END:VCALENDAR
