BEGIN:VCALENDAR
VERSION:2.0
PRODID:-//hacksw/handcal//NONSGML v1.0//EN
CALSCALE:GREGORIAN
BEGIN:VEVENT
UID:69e63c2dd6518
DTSTART:20200607T193000Z
DTSTAMP:20260420T144605Z
DTEND:20200608T193000Z
LOCATION:London
DESCRIPTION:Nano Tenchnology Event
URL;VALUE=URI:https://ceramics.insightconferences.com/
SUMMARY:6th International Conference and Expo on  Ceramics and Compos
 site Materials
END:VEVENT
END:VCALENDAR
