BEGIN:VCALENDAR
VERSION:2.0
PRODID:-//hacksw/handcal//NONSGML v1.0//EN
CALSCALE:GREGORIAN
BEGIN:VEVENT
UID:69e63be11501b
DTSTART:20200621T193000Z
DTSTAMP:20260420T144449Z
DTEND:20200622T193000Z
LOCATION:London
DESCRIPTION:Nano Tenchnology Event
URL;VALUE=URI:https://materialsscience.insightconferences.com/call-fo
 or-abstracts.php
SUMMARY:21st World Congress on  Materials Science and Engineering
END:VEVENT
END:VCALENDAR
