BEGIN:VCALENDAR
VERSION:2.0
PRODID:-//hacksw/handcal//NONSGML v1.0//EN
CALSCALE:GREGORIAN
BEGIN:VEVENT
UID:69e63c1ebc93a
DTSTART:20200621T193000Z
DTSTAMP:20260420T144550Z
DTEND:20200622T193000Z
LOCATION:London
DESCRIPTION:Nano Tenchnology Event
URL;VALUE=URI:https://advancedmaterials.conferenceseries.com/
SUMMARY:26th International Conference on  Advanced Materials\, Nanote
 echnology and Engineering
END:VEVENT
END:VCALENDAR
