BEGIN:VCALENDAR
VERSION:2.0
PRODID:-//hacksw/handcal//NONSGML v1.0//EN
CALSCALE:GREGORIAN
BEGIN:VEVENT
UID:69e63be0eac3d
DTSTART:20200714T193000Z
DTSTAMP:20260420T144448Z
DTEND:20200715T193000Z
LOCATION:London
DESCRIPTION:Nano Tenchnology Event
URL;VALUE=URI:https://energymaterials.materialsconferences.com/
SUMMARY:22nd International Conference on  Advanced Energy Materials a
 and Research
END:VEVENT
END:VCALENDAR
