BEGIN:VCALENDAR
VERSION:2.0
PRODID:-//hacksw/handcal//NONSGML v1.0//EN
CALSCALE:GREGORIAN
BEGIN:VEVENT
UID:69e63be0a420e
DTSTART:20200726T193000Z
DTSTAMP:20260420T144448Z
DTEND:20200726T193000Z
LOCATION:London
DESCRIPTION:Nano Tenchnology Event
URL;VALUE=URI:https://materialscience.annualcongress.com/call-for-abs
 stracts.php
SUMMARY:Material Science and Nanotechnology
END:VEVENT
END:VCALENDAR
