BEGIN:VCALENDAR
VERSION:2.0
PRODID:-//hacksw/handcal//NONSGML v1.0//EN
CALSCALE:GREGORIAN
BEGIN:VEVENT
UID:69e6265fc8147
DTSTART:20201014T203000Z
DTSTAMP:20260420T131303Z
DTEND:20201015T203000Z
LOCATION:Prague
DESCRIPTION:Nano Tenchnology Event
URL;VALUE=URI:https://smart.materialsconferences.com/call-for-abstrac
 cts.php
SUMMARY:3rd Global Conference on  Smart Materials and Nanotechnology
END:VEVENT
END:VCALENDAR
