BEGIN:VCALENDAR
VERSION:2.0
PRODID:-//hacksw/handcal//NONSGML v1.0//EN
CALSCALE:GREGORIAN
BEGIN:VEVENT
UID:69e626d308bf3
DTSTART:20200823T193000Z
DTSTAMP:20260420T131459Z
DTEND:20200824T193000Z
LOCATION:Vancouver
DESCRIPTION:Nano Tenchnology Event
URL;VALUE=URI:https://materialsscience.materialsconferences.com/call-
 -for-abstracts.php
SUMMARY:World Congress on  Advanced Materials and Nanotechnology
END:VEVENT
END:VCALENDAR
