BEGIN:VCALENDAR
VERSION:2.0
PRODID:-//hacksw/handcal//NONSGML v1.0//EN
CALSCALE:GREGORIAN
BEGIN:VEVENT
UID:69e626f51a6bd
DTSTART:20200920T203000Z
DTSTAMP:20260420T131533Z
DTEND:20200921T203000Z
LOCATION:Milan
DESCRIPTION:Nano Tenchnology Event
URL;VALUE=URI:https://material-science.materialsconferences.com/call-
 -for-abstracts.php
SUMMARY:21st International Conference and Exhibition on  Materials Sc
 cience\, Nanotechnology and Engineering
END:VEVENT
END:VCALENDAR
