BEGIN:VCALENDAR
VERSION:2.0
PRODID:-//hacksw/handcal//NONSGML v1.0//EN
CALSCALE:GREGORIAN
BEGIN:VEVENT
UID:69e6269614b07
DTSTART:20200830T193000Z
DTSTAMP:20260420T131358Z
DTEND:20200831T193000Z
LOCATION:Rome
DESCRIPTION:Nano Tenchnology Event
URL;VALUE=URI:https://emergingmaterials.materialsconferences.com/call
 l-for-abstracts.php
SUMMARY:18th International Conference on  Emerging Materials and Nano
 otechnology
END:VEVENT
END:VCALENDAR
