BEGIN:VCALENDAR
VERSION:2.0
PRODID:-//hacksw/handcal//NONSGML v1.0//EN
CALSCALE:GREGORIAN
BEGIN:VEVENT
UID:69e626bf4f599
DTSTART:20200830T193000Z
DTSTAMP:20260420T131439Z
DTEND:20200831T193000Z
LOCATION:Rome
DESCRIPTION:Nano Tenchnology Event
URL;VALUE=URI:https://biomaterials.insightconferences.com/call-for-ab
 bstracts.php
SUMMARY:5th Annual Conference and Expo on  Biomaterials
END:VEVENT
END:VCALENDAR
