BEGIN:VCALENDAR
VERSION:2.0
PRODID:-//hacksw/handcal//NONSGML v1.0//EN
CALSCALE:GREGORIAN
BEGIN:VEVENT
UID:69e63c2d5bd75
DTSTART:20200726T193000Z
DTSTAMP:20260420T144605Z
DTEND:20200727T193000Z
LOCATION:London
DESCRIPTION:Nano Tenchnology Event
URL;VALUE=URI:https://materials.materialsconferences.com/call-for-abs
 stracts.php
SUMMARY:36th World Congress on  Materials Science and Nanotechnology
END:VEVENT
END:VCALENDAR
