BEGIN:VCALENDAR
VERSION:2.0
PRODID:-//hacksw/handcal//NONSGML v1.0//EN
CALSCALE:GREGORIAN
BEGIN:VEVENT
UID:69e612007cc46
DTSTART:20201123T203000Z
DTSTAMP:20260420T114608Z
DTEND:20201124T203000Z
LOCATION:Online
DESCRIPTION:Nano Tenchnology Event
URL;VALUE=URI:https://advancedmaterials.materialsconferences.com/
SUMMARY:International Conference on  Advanced Materials and Sustainab
 ble Development
END:VEVENT
END:VCALENDAR
