BEGIN:VCALENDAR
VERSION:2.0
PRODID:-//hacksw/handcal//NONSGML v1.0//EN
CALSCALE:GREGORIAN
BEGIN:VEVENT
UID:69e6269557b37
DTSTART:20201110T203000Z
DTSTAMP:20260420T131357Z
DTEND:20201111T203000Z
LOCATION:Online
DESCRIPTION:Nano Tenchnology Event
URL;VALUE=URI:https://materialsscience.annualcongress.com/
SUMMARY:4th Global Meet on Materials Science and Nano Materials
END:VEVENT
END:VCALENDAR
