BEGIN:VCALENDAR
VERSION:2.0
PRODID:-//hacksw/handcal//NONSGML v1.0//EN
CALSCALE:GREGORIAN
BEGIN:VEVENT
UID:69e626605ad3d
DTSTART:20201108T203000Z
DTSTAMP:20260420T131304Z
DTEND:20201109T203000Z
LOCATION:Amsterdam
DESCRIPTION:Nano Tenchnology Event
URL;VALUE=URI:https://biopolymerscongress.conferenceseries.com/
SUMMARY:12th World Congress on  Biopolymers and Biomaterials
END:VEVENT
END:VCALENDAR
