BEGIN:VCALENDAR
VERSION:2.0
PRODID:-//hacksw/handcal//NONSGML v1.0//EN
CALSCALE:GREGORIAN
BEGIN:VEVENT
UID:69e626f41934a
DTSTART:20201029T203000Z
DTSTAMP:20260420T131532Z
DTEND:20201030T203000Z
LOCATION:Osaka
DESCRIPTION:Nano Tenchnology Event
URL;VALUE=URI:https://materialsresearch.conferenceseries.com/
SUMMARY:3rd International Conference on  Materials Science & Research
END:VEVENT
END:VCALENDAR
