BEGIN:VCALENDAR
VERSION:2.0
PRODID:-//hacksw/handcal//NONSGML v1.0//EN
CALSCALE:GREGORIAN
BEGIN:VEVENT
UID:69e6267c1c47a
DTSTART:20201029T203000Z
DTSTAMP:20260420T131332Z
DTEND:20201030T203000Z
LOCATION:Dubai
DESCRIPTION:Nano Tenchnology Event
URL;VALUE=URI:https://materialscience.materialsconferences.com/
SUMMARY:Global Summit on  Material Science
END:VEVENT
END:VCALENDAR
