BEGIN:VCALENDAR
VERSION:2.0
PRODID:-//hacksw/handcal//NONSGML v1.0//EN
CALSCALE:GREGORIAN
BEGIN:VEVENT
UID:69e626d1be429
DTSTART:20201025T203000Z
DTSTAMP:20260420T131457Z
DTEND:20201026T203000Z
LOCATION:Dubai
DESCRIPTION:Nano Tenchnology Event
URL;VALUE=URI:https://advancedmaterials.annualcongress.com/
SUMMARY:9th Annual Congress on  Advanced Materials and Nano Science
END:VEVENT
END:VCALENDAR
