BEGIN:VCALENDAR
VERSION:2.0
PRODID:-//hacksw/handcal//NONSGML v1.0//EN
CALSCALE:GREGORIAN
BEGIN:VEVENT
UID:69e6266062e4d
DTSTART:20201022T203000Z
DTSTAMP:20260420T131304Z
DTEND:20201023T203000Z
LOCATION:Cape Town
DESCRIPTION:Nano Tenchnology Event
URL;VALUE=URI:https://materialselectrochemistry.conferenceseries.com/
SUMMARY:Materials Electrochemistry Conference: Advancements and Break
 kthroughs
END:VEVENT
END:VCALENDAR
