BEGIN:VCALENDAR
VERSION:2.0
PRODID:-//hacksw/handcal//NONSGML v1.0//EN
CALSCALE:GREGORIAN
BEGIN:VEVENT
UID:69e626f37a391
DTSTART:20201021T203000Z
DTSTAMP:20260420T131531Z
DTEND:20201022T203000Z
LOCATION:Tokyo
DESCRIPTION:Nano Tenchnology Event
URL;VALUE=URI:https://advanced.materialsconferences.com/
SUMMARY:26th World Congress on  Advanced Materials
END:VEVENT
END:VCALENDAR
