BEGIN:VCALENDAR
VERSION:2.0
PRODID:-//hacksw/handcal//NONSGML v1.0//EN
CALSCALE:GREGORIAN
BEGIN:VEVENT
UID:69e626d22ae5e
DTSTART:20201020T203000Z
DTSTAMP:20260420T131458Z
DTEND:20201021T203000Z
LOCATION:Bangkok
DESCRIPTION:Nano Tenchnology Event
URL;VALUE=URI:https://materialsscience.conferenceseries.com/asia-paci
 ific/
SUMMARY:20th International Conference on  Materials Science and Engin
 neering
END:VEVENT
END:VCALENDAR
