BEGIN:VCALENDAR
VERSION:2.0
PRODID:-//hacksw/handcal//NONSGML v1.0//EN
CALSCALE:GREGORIAN
BEGIN:VEVENT
UID:69e626f493824
DTSTART:20201018T203000Z
DTSTAMP:20260420T131532Z
DTEND:20201019T203000Z
LOCATION:Paris
DESCRIPTION:Nano Tenchnology Event
URL;VALUE=URI:https://advancedceramics.insightconferences.com/call-fo
 or-abstracts.php
SUMMARY:International Conference and Expo on  Ceramics and Composite 
  Materials
END:VEVENT
END:VCALENDAR
