BEGIN:VCALENDAR
VERSION:2.0
PRODID:-//hacksw/handcal//NONSGML v1.0//EN
CALSCALE:GREGORIAN
BEGIN:VEVENT
UID:69e626bed2c28
DTSTART:20201018T203000Z
DTSTAMP:20260420T131438Z
DTEND:20201019T203000Z
LOCATION:Amsterdam
DESCRIPTION:Nano Tenchnology Event
URL;VALUE=URI:https://smartmaterials.insightconferences.com/
SUMMARY:37th Global Conference on  Smart Materials and Nanotechnology
END:VEVENT
END:VCALENDAR
