BEGIN:VCALENDAR
VERSION:2.0
PRODID:-//hacksw/handcal//NONSGML v1.0//EN
CALSCALE:GREGORIAN
BEGIN:VEVENT
UID:69e63baf33b85
DTSTART:20200503T193000Z
DTSTAMP:20260420T144359Z
DTEND:20200504T193000Z
LOCATION:London
DESCRIPTION:Nano Tenchnology Event
URL;VALUE=URI:https://nanotechnology.pharmaceuticalconferences.com/
SUMMARY:16th International Conference and Exhibition on  Nanomedicine
 e and Pharmaceutical Nanotechnology
END:VEVENT
END:VCALENDAR
