BEGIN:VCALENDAR
VERSION:2.0
PRODID:-//hacksw/handcal//NONSGML v1.0//EN
CALSCALE:GREGORIAN
BEGIN:VEVENT
UID:69e63bd5797b2
DTSTART:20200625T193000Z
DTSTAMP:20260420T144437Z
DTEND:20200625T193000Z
LOCATION:Paris
DESCRIPTION:Nano Tenchnology Event
URL;VALUE=URI:https://nanoscience.annualcongress.com/
SUMMARY:Webinar on  Nanoscience\, Nanotechnology and Nanoengineering
END:VEVENT
END:VCALENDAR
