BEGIN:VCALENDAR
VERSION:2.0
PRODID:-//hacksw/handcal//NONSGML v1.0//EN
CALSCALE:GREGORIAN
BEGIN:VEVENT
UID:69e63bd67a813
DTSTART:20200708T193000Z
DTSTAMP:20260420T144438Z
DTEND:20200709T193000Z
LOCATION:Geneva
DESCRIPTION:Nano Tenchnology Event
URL;VALUE=URI:https://nano.nanotechconferences.org/
SUMMARY:World Congress on  Nanotechnology and Advanced Materials
END:VEVENT
END:VCALENDAR
