BEGIN:VCALENDAR
VERSION:2.0
PRODID:-//hacksw/handcal//NONSGML v1.0//EN
CALSCALE:GREGORIAN
BEGIN:VEVENT
UID:69e6267b881af
DTSTART:20200809T193000Z
DTSTAMP:20260420T131331Z
DTEND:20200810T193000Z
LOCATION:Bangkok
DESCRIPTION:Nano Tenchnology Event
URL;VALUE=URI:https://nanomedicine.annualcongress.com/
SUMMARY:5th Annual Congress on  Nanomedicine and Drug Delivery
END:VEVENT
END:VCALENDAR
