BEGIN:VCALENDAR
VERSION:2.0
PRODID:-//hacksw/handcal//NONSGML v1.0//EN
CALSCALE:GREGORIAN
BEGIN:VEVENT
UID:69e626d2081f9
DTSTART:20200802T193000Z
DTSTAMP:20260420T131458Z
DTEND:20200803T193000Z
LOCATION:London
DESCRIPTION:Nano Tenchnology Event
URL;VALUE=URI:https://nanoscience.conferenceseries.com/
SUMMARY:4th World Congress on  Nano Science and Nanotechnology
END:VEVENT
END:VCALENDAR
