BEGIN:VCALENDAR
VERSION:2.0
PRODID:-//hacksw/handcal//NONSGML v1.0//EN
CALSCALE:GREGORIAN
BEGIN:VEVENT
UID:69e611d61b2ed
DTSTART:20201122T203000Z
DTSTAMP:20260420T114526Z
DTEND:20201123T203000Z
LOCATION:Online
DESCRIPTION:Nano Tenchnology Event
URL;VALUE=URI:https://nanotechnology.annualcongress.com/
SUMMARY:Nanotechnology Summit 2020
END:VEVENT
END:VCALENDAR
