BEGIN:VCALENDAR
VERSION:2.0
PRODID:-//hacksw/handcal//NONSGML v1.0//EN
CALSCALE:GREGORIAN
BEGIN:VEVENT
UID:69e611e17e378
DTSTART:20201122T203000Z
DTSTAMP:20260420T114537Z
DTEND:20201123T203000Z
LOCATION:Online
DESCRIPTION:Nano Tenchnology Event
URL;VALUE=URI:https://nano.expertconferences.org/
SUMMARY:31st World Nano Conference
END:VEVENT
END:VCALENDAR
