BEGIN:VCALENDAR
VERSION:2.0
PRODID:-//hacksw/handcal//NONSGML v1.0//EN
CALSCALE:GREGORIAN
BEGIN:VEVENT
UID:69e611e203e32
DTSTART:20201122T203000Z
DTSTAMP:20260420T114538Z
DTEND:20201123T203000Z
LOCATION:Online
DESCRIPTION:Nano Tenchnology Event
URL;VALUE=URI:https://nano.materialsconferences.com/
SUMMARY:34th International Conference on  Nano Materials and Nanotech
 hnology
END:VEVENT
END:VCALENDAR
