BEGIN:VCALENDAR
VERSION:2.0
PRODID:-//hacksw/handcal//NONSGML v1.0//EN
CALSCALE:GREGORIAN
BEGIN:VEVENT
UID:69e626beb5640
DTSTART:20201118T203000Z
DTSTAMP:20260420T131438Z
DTEND:20201119T203000Z
LOCATION:Berlin
DESCRIPTION:Nano Tenchnology Event
URL;VALUE=URI:https://nanophotonics.conferenceseries.com/
SUMMARY:International Conference on  Nanomaterials and Nanophotonics
END:VEVENT
END:VCALENDAR
