BEGIN:VCALENDAR
VERSION:2.0
PRODID:-//hacksw/handcal//NONSGML v1.0//EN
CALSCALE:GREGORIAN
BEGIN:VEVENT
UID:69e6267d1ce33
DTSTART:20201108T203000Z
DTSTAMP:20260420T131333Z
DTEND:20201109T203000Z
LOCATION:Budapest
DESCRIPTION:Nano Tenchnology Event
URL;VALUE=URI:https://nanomaterials.materialsconferences.com/
SUMMARY:25th World Congress on  Nanomaterials and Nanotechnology
END:VEVENT
END:VCALENDAR
