BEGIN:VCALENDAR
VERSION:2.0
PRODID:-//hacksw/handcal//NONSGML v1.0//EN
CALSCALE:GREGORIAN
BEGIN:VEVENT
UID:69e626be85b6d
DTSTART:20201020T203000Z
DTSTAMP:20260420T131438Z
DTEND:20201021T203000Z
LOCATION:Frankfurt
DESCRIPTION:Nano Tenchnology Event
URL;VALUE=URI:https://nanotechnology.nanotechconferences.org/
SUMMARY:37th Global Nanotechnology Congress
END:VEVENT
END:VCALENDAR
