BEGIN:VCALENDAR
VERSION:2.0
PRODID:-//hacksw/handcal//NONSGML v1.0//EN
CALSCALE:GREGORIAN
BEGIN:VEVENT
UID:69e626957da67
DTSTART:20201013T203000Z
DTSTAMP:20260420T131357Z
DTEND:20201014T203000Z
LOCATION:Zurich
DESCRIPTION:Nano Tenchnology Event
URL;VALUE=URI:https://nanomed.pharmaceuticalconferences.com/
SUMMARY:34th International Conference on  Nanomedicine & Pharmaceutic
 cal Nanotechnology
END:VEVENT
END:VCALENDAR
