BEGIN:VCALENDAR
VERSION:2.0
PRODID:-//hacksw/handcal//NONSGML v1.0//EN
CALSCALE:GREGORIAN
BEGIN:VEVENT
UID:69e626f3eb666
DTSTART:20201011T203000Z
DTSTAMP:20260420T131531Z
DTEND:20201012T203000Z
LOCATION:Sydney
DESCRIPTION:Nano Tenchnology Event
URL;VALUE=URI:https://electronicengineering.enggconferences.com/
SUMMARY:6th International Conference and Exhibition on  Nanotechnolog
 gy\, Artificial Intelligence and IOT
END:VEVENT
END:VCALENDAR
