BEGIN:VCALENDAR
VERSION:2.0
PRODID:-//hacksw/handcal//NONSGML v1.0//EN
CALSCALE:GREGORIAN
BEGIN:VEVENT
UID:69e62660ea5b7
DTSTART:20200920T203000Z
DTSTAMP:20260420T131304Z
DTEND:20200922T203000Z
LOCATION:Shanghai
DESCRIPTION:Nano Tenchnology Event
URL;VALUE=URI:https://nanochemistry.conferenceseries.com/
SUMMARY:International Conferences on  Nanotechnology & Chemistry
END:VEVENT
END:VCALENDAR
