BEGIN:VCALENDAR
VERSION:2.0
PRODID:-//hacksw/handcal//NONSGML v1.0//EN
CALSCALE:GREGORIAN
BEGIN:VEVENT
UID:69e6267d0be6d
DTSTART:20200913T193000Z
DTSTAMP:20260420T131333Z
DTEND:20200914T193000Z
LOCATION:Dubai
DESCRIPTION:Nano Tenchnology Event
URL;VALUE=URI:https://advancednano.nanotechconferences.org/
SUMMARY:36th International Conference on  Advanced Nanotechnology
END:VEVENT
END:VCALENDAR
