BEGIN:VCALENDAR
VERSION:2.0
PRODID:-//hacksw/handcal//NONSGML v1.0//EN
CALSCALE:GREGORIAN
BEGIN:VEVENT
UID:69e6269603d9f
DTSTART:20200906T193000Z
DTSTAMP:20260420T131358Z
DTEND:20200907T193000Z
LOCATION:Sydney
DESCRIPTION:Nano Tenchnology Event
URL;VALUE=URI:https://world.nanotechconferences.org/
SUMMARY:World Congress on  Advanced Nano Research and Nano Tech Appli
 ications
END:VEVENT
END:VCALENDAR
