BEGIN:VCALENDAR
VERSION:2.0
PRODID:-//hacksw/handcal//NONSGML v1.0//EN
CALSCALE:GREGORIAN
BEGIN:VEVENT
UID:69e5fd5e2b7ba
DTSTART:20211114T203000Z
DTSTAMP:20260420T101806Z
DTEND:20211115T203000Z
LOCATION:Madrid
DESCRIPTION:Nano Tenchnology Event
URL;VALUE=URI:https://nanoexpo.conferenceseries.com/
SUMMARY:34th International Conference on  Nanotechnology & Expo
END:VEVENT
END:VCALENDAR
