BEGIN:VCALENDAR
VERSION:2.0
PRODID:-//hacksw/handcal//NONSGML v1.0//EN
CALSCALE:GREGORIAN
BEGIN:VEVENT
UID:69e5fd1db0211
DTSTART:20211111T203000Z
DTSTAMP:20260420T101701Z
DTEND:20211112T203000Z
LOCATION:Paris
DESCRIPTION:Nano Tenchnology Event
URL;VALUE=URI:https://materialscience.annualcongress.com/
SUMMARY:28th International Conference on  Materials Science and Nanot
 technology
END:VEVENT
END:VCALENDAR
