BEGIN:VCALENDAR
VERSION:2.0
PRODID:-//hacksw/handcal//NONSGML v1.0//EN
CALSCALE:GREGORIAN
BEGIN:VEVENT
UID:69e8ae58de396
DTSTART:20210725T193000Z
DTSTAMP:20260422T111744Z
DTEND:20210726T193000Z
LOCATION:Osaka
DESCRIPTION:Nano Tenchnology Event
URL;VALUE=URI:https://nanomedicine.healthconferences.org/call-for-abs
 stracts.php
SUMMARY:18th Nanotechnology and Nanomedicine Congress
END:VEVENT
END:VCALENDAR
